BEGIN:VCALENDAR
VERSION:2.0
PRODID:-//Wootton Community Network - ECPv6.15.20//NONSGML v1.0//EN
CALSCALE:GREGORIAN
METHOD:PUBLISH
X-WR-CALNAME:Wootton Community Network
X-ORIGINAL-URL:https://wootton.org.au
X-WR-CALDESC:Events for Wootton Community Network
REFRESH-INTERVAL;VALUE=DURATION:PT1H
X-Robots-Tag:noindex
X-PUBLISHED-TTL:PT1H
BEGIN:VTIMEZONE
TZID:UTC
BEGIN:STANDARD
TZOFFSETFROM:+0000
TZOFFSETTO:+0000
TZNAME:UTC
DTSTART:20280101T000000
END:STANDARD
END:VTIMEZONE
BEGIN:VEVENT
DTSTART;TZID=UTC:20291031T091500
DTEND;TZID=UTC:20291031T104500
DTSTAMP:20260421T090858
CREATED:20230508T015700Z
LAST-MODIFIED:20250401T035320Z
UID:10004292-1888132500-1888137900@wootton.org.au
SUMMARY:Yoga at the Hall - Wednesday
DESCRIPTION:Yoga classes are available for beginners through to expert level. \nEvery Monday 9:00 am – 10 am and Wednesday 9:15 am – 10:45 am. \nContact Naomi on … 0499-098-123
URL:https://wootton.org.au/event/yoga-at-the-hall-wednesdays/2029-10-31/
LOCATION:School Hall\, 1633 Wootton Way\, Wootton\, NSW\, Australia
ATTACH;FMTTYPE=image/jpeg:https://wootton.org.au/wp-content/uploads/2025/04/Yoga-2025.jpeg
END:VEVENT
BEGIN:VEVENT
DTSTART;TZID=UTC:20291105T090000
DTEND;TZID=UTC:20291105T100000
DTSTAMP:20260421T090858
CREATED:20231217T022321Z
LAST-MODIFIED:20250401T035548Z
UID:10004360-1888563600-1888567200@wootton.org.au
SUMMARY:Yoga at the Hall - Monday
DESCRIPTION:Yoga classes are available for beginners through to expert level. \nEvery Monday 9:00 am – 10 am and Wednesday 9:15 am – 10:45 am. \nContact Naomi on … 0499-098-123
URL:https://wootton.org.au/event/yoga-at-the-hall-monday-2/2029-11-05/
LOCATION:School Hall\, 1633 Wootton Way\, Wootton\, NSW\, Australia
ATTACH;FMTTYPE=image/jpeg:https://wootton.org.au/wp-content/uploads/2025/04/Yoga-2025.jpeg
END:VEVENT
BEGIN:VEVENT
DTSTART;TZID=UTC:20291107T091500
DTEND;TZID=UTC:20291107T104500
DTSTAMP:20260421T090858
CREATED:20230508T015700Z
LAST-MODIFIED:20250401T035320Z
UID:10004293-1888737300-1888742700@wootton.org.au
SUMMARY:Yoga at the Hall - Wednesday
DESCRIPTION:Yoga classes are available for beginners through to expert level. \nEvery Monday 9:00 am – 10 am and Wednesday 9:15 am – 10:45 am. \nContact Naomi on … 0499-098-123
URL:https://wootton.org.au/event/yoga-at-the-hall-wednesdays/2029-11-07/
LOCATION:School Hall\, 1633 Wootton Way\, Wootton\, NSW\, Australia
ATTACH;FMTTYPE=image/jpeg:https://wootton.org.au/wp-content/uploads/2025/04/Yoga-2025.jpeg
END:VEVENT
BEGIN:VEVENT
DTSTART;TZID=UTC:20291112T090000
DTEND;TZID=UTC:20291112T100000
DTSTAMP:20260421T090858
CREATED:20231217T022321Z
LAST-MODIFIED:20250401T035548Z
UID:10004361-1889168400-1889172000@wootton.org.au
SUMMARY:Yoga at the Hall - Monday
DESCRIPTION:Yoga classes are available for beginners through to expert level. \nEvery Monday 9:00 am – 10 am and Wednesday 9:15 am – 10:45 am. \nContact Naomi on … 0499-098-123
URL:https://wootton.org.au/event/yoga-at-the-hall-monday-2/2029-11-12/
LOCATION:School Hall\, 1633 Wootton Way\, Wootton\, NSW\, Australia
ATTACH;FMTTYPE=image/jpeg:https://wootton.org.au/wp-content/uploads/2025/04/Yoga-2025.jpeg
END:VEVENT
BEGIN:VEVENT
DTSTART;TZID=UTC:20291114T091500
DTEND;TZID=UTC:20291114T104500
DTSTAMP:20260421T090858
CREATED:20230508T015700Z
LAST-MODIFIED:20250401T035320Z
UID:10004294-1889342100-1889347500@wootton.org.au
SUMMARY:Yoga at the Hall - Wednesday
DESCRIPTION:Yoga classes are available for beginners through to expert level. \nEvery Monday 9:00 am – 10 am and Wednesday 9:15 am – 10:45 am. \nContact Naomi on … 0499-098-123
URL:https://wootton.org.au/event/yoga-at-the-hall-wednesdays/2029-11-14/
LOCATION:School Hall\, 1633 Wootton Way\, Wootton\, NSW\, Australia
ATTACH;FMTTYPE=image/jpeg:https://wootton.org.au/wp-content/uploads/2025/04/Yoga-2025.jpeg
END:VEVENT
BEGIN:VEVENT
DTSTART;TZID=UTC:20291119T090000
DTEND;TZID=UTC:20291119T100000
DTSTAMP:20260421T090858
CREATED:20231217T022321Z
LAST-MODIFIED:20250401T035548Z
UID:10004362-1889773200-1889776800@wootton.org.au
SUMMARY:Yoga at the Hall - Monday
DESCRIPTION:Yoga classes are available for beginners through to expert level. \nEvery Monday 9:00 am – 10 am and Wednesday 9:15 am – 10:45 am. \nContact Naomi on … 0499-098-123
URL:https://wootton.org.au/event/yoga-at-the-hall-monday-2/2029-11-19/
LOCATION:School Hall\, 1633 Wootton Way\, Wootton\, NSW\, Australia
ATTACH;FMTTYPE=image/jpeg:https://wootton.org.au/wp-content/uploads/2025/04/Yoga-2025.jpeg
END:VEVENT
BEGIN:VEVENT
DTSTART;TZID=UTC:20291121T091500
DTEND;TZID=UTC:20291121T104500
DTSTAMP:20260421T090858
CREATED:20230508T015700Z
LAST-MODIFIED:20250401T035320Z
UID:10004295-1889946900-1889952300@wootton.org.au
SUMMARY:Yoga at the Hall - Wednesday
DESCRIPTION:Yoga classes are available for beginners through to expert level. \nEvery Monday 9:00 am – 10 am and Wednesday 9:15 am – 10:45 am. \nContact Naomi on … 0499-098-123
URL:https://wootton.org.au/event/yoga-at-the-hall-wednesdays/2029-11-21/
LOCATION:School Hall\, 1633 Wootton Way\, Wootton\, NSW\, Australia
ATTACH;FMTTYPE=image/jpeg:https://wootton.org.au/wp-content/uploads/2025/04/Yoga-2025.jpeg
END:VEVENT
BEGIN:VEVENT
DTSTART;TZID=UTC:20291126T090000
DTEND;TZID=UTC:20291126T100000
DTSTAMP:20260421T090858
CREATED:20231217T022321Z
LAST-MODIFIED:20250401T035548Z
UID:10004363-1890378000-1890381600@wootton.org.au
SUMMARY:Yoga at the Hall - Monday
DESCRIPTION:Yoga classes are available for beginners through to expert level. \nEvery Monday 9:00 am – 10 am and Wednesday 9:15 am – 10:45 am. \nContact Naomi on … 0499-098-123
URL:https://wootton.org.au/event/yoga-at-the-hall-monday-2/2029-11-26/
LOCATION:School Hall\, 1633 Wootton Way\, Wootton\, NSW\, Australia
ATTACH;FMTTYPE=image/jpeg:https://wootton.org.au/wp-content/uploads/2025/04/Yoga-2025.jpeg
END:VEVENT
BEGIN:VEVENT
DTSTART;TZID=UTC:20291128T091500
DTEND;TZID=UTC:20291128T104500
DTSTAMP:20260421T090858
CREATED:20230508T015700Z
LAST-MODIFIED:20250401T035320Z
UID:10004296-1890551700-1890557100@wootton.org.au
SUMMARY:Yoga at the Hall - Wednesday
DESCRIPTION:Yoga classes are available for beginners through to expert level. \nEvery Monday 9:00 am – 10 am and Wednesday 9:15 am – 10:45 am. \nContact Naomi on … 0499-098-123
URL:https://wootton.org.au/event/yoga-at-the-hall-wednesdays/2029-11-28/
LOCATION:School Hall\, 1633 Wootton Way\, Wootton\, NSW\, Australia
ATTACH;FMTTYPE=image/jpeg:https://wootton.org.au/wp-content/uploads/2025/04/Yoga-2025.jpeg
END:VEVENT
BEGIN:VEVENT
DTSTART;TZID=UTC:20291203T090000
DTEND;TZID=UTC:20291203T100000
DTSTAMP:20260421T090858
CREATED:20231217T022321Z
LAST-MODIFIED:20250401T035548Z
UID:10004364-1890982800-1890986400@wootton.org.au
SUMMARY:Yoga at the Hall - Monday
DESCRIPTION:Yoga classes are available for beginners through to expert level. \nEvery Monday 9:00 am – 10 am and Wednesday 9:15 am – 10:45 am. \nContact Naomi on … 0499-098-123
URL:https://wootton.org.au/event/yoga-at-the-hall-monday-2/2029-12-03/
LOCATION:School Hall\, 1633 Wootton Way\, Wootton\, NSW\, Australia
ATTACH;FMTTYPE=image/jpeg:https://wootton.org.au/wp-content/uploads/2025/04/Yoga-2025.jpeg
END:VEVENT
BEGIN:VEVENT
DTSTART;TZID=UTC:20291205T091500
DTEND;TZID=UTC:20291205T104500
DTSTAMP:20260421T090858
CREATED:20230508T015700Z
LAST-MODIFIED:20250401T035320Z
UID:10004297-1891156500-1891161900@wootton.org.au
SUMMARY:Yoga at the Hall - Wednesday
DESCRIPTION:Yoga classes are available for beginners through to expert level. \nEvery Monday 9:00 am – 10 am and Wednesday 9:15 am – 10:45 am. \nContact Naomi on … 0499-098-123
URL:https://wootton.org.au/event/yoga-at-the-hall-wednesdays/2029-12-05/
LOCATION:School Hall\, 1633 Wootton Way\, Wootton\, NSW\, Australia
ATTACH;FMTTYPE=image/jpeg:https://wootton.org.au/wp-content/uploads/2025/04/Yoga-2025.jpeg
END:VEVENT
BEGIN:VEVENT
DTSTART;TZID=UTC:20291210T090000
DTEND;TZID=UTC:20291210T100000
DTSTAMP:20260421T090858
CREATED:20231217T022321Z
LAST-MODIFIED:20250401T035548Z
UID:10004365-1891587600-1891591200@wootton.org.au
SUMMARY:Yoga at the Hall - Monday
DESCRIPTION:Yoga classes are available for beginners through to expert level. \nEvery Monday 9:00 am – 10 am and Wednesday 9:15 am – 10:45 am. \nContact Naomi on … 0499-098-123
URL:https://wootton.org.au/event/yoga-at-the-hall-monday-2/2029-12-10/
LOCATION:School Hall\, 1633 Wootton Way\, Wootton\, NSW\, Australia
ATTACH;FMTTYPE=image/jpeg:https://wootton.org.au/wp-content/uploads/2025/04/Yoga-2025.jpeg
END:VEVENT
BEGIN:VEVENT
DTSTART;TZID=UTC:20291212T091500
DTEND;TZID=UTC:20291212T104500
DTSTAMP:20260421T090858
CREATED:20230508T015700Z
LAST-MODIFIED:20250401T035320Z
UID:10004298-1891761300-1891766700@wootton.org.au
SUMMARY:Yoga at the Hall - Wednesday
DESCRIPTION:Yoga classes are available for beginners through to expert level. \nEvery Monday 9:00 am – 10 am and Wednesday 9:15 am – 10:45 am. \nContact Naomi on … 0499-098-123
URL:https://wootton.org.au/event/yoga-at-the-hall-wednesdays/2029-12-12/
LOCATION:School Hall\, 1633 Wootton Way\, Wootton\, NSW\, Australia
ATTACH;FMTTYPE=image/jpeg:https://wootton.org.au/wp-content/uploads/2025/04/Yoga-2025.jpeg
END:VEVENT
BEGIN:VEVENT
DTSTART;TZID=UTC:20291217T090000
DTEND;TZID=UTC:20291217T100000
DTSTAMP:20260421T090858
CREATED:20231217T022321Z
LAST-MODIFIED:20250401T035548Z
UID:10004366-1892192400-1892196000@wootton.org.au
SUMMARY:Yoga at the Hall - Monday
DESCRIPTION:Yoga classes are available for beginners through to expert level. \nEvery Monday 9:00 am – 10 am and Wednesday 9:15 am – 10:45 am. \nContact Naomi on … 0499-098-123
URL:https://wootton.org.au/event/yoga-at-the-hall-monday-2/2029-12-17/
LOCATION:School Hall\, 1633 Wootton Way\, Wootton\, NSW\, Australia
ATTACH;FMTTYPE=image/jpeg:https://wootton.org.au/wp-content/uploads/2025/04/Yoga-2025.jpeg
END:VEVENT
BEGIN:VEVENT
DTSTART;TZID=UTC:20291219T091500
DTEND;TZID=UTC:20291219T104500
DTSTAMP:20260421T090858
CREATED:20230508T015700Z
LAST-MODIFIED:20250401T035320Z
UID:10004299-1892366100-1892371500@wootton.org.au
SUMMARY:Yoga at the Hall - Wednesday
DESCRIPTION:Yoga classes are available for beginners through to expert level. \nEvery Monday 9:00 am – 10 am and Wednesday 9:15 am – 10:45 am. \nContact Naomi on … 0499-098-123
URL:https://wootton.org.au/event/yoga-at-the-hall-wednesdays/2029-12-19/
LOCATION:School Hall\, 1633 Wootton Way\, Wootton\, NSW\, Australia
ATTACH;FMTTYPE=image/jpeg:https://wootton.org.au/wp-content/uploads/2025/04/Yoga-2025.jpeg
END:VEVENT
BEGIN:VEVENT
DTSTART;TZID=UTC:20291224T090000
DTEND;TZID=UTC:20291224T100000
DTSTAMP:20260421T090858
CREATED:20231217T022321Z
LAST-MODIFIED:20250401T035548Z
UID:10004367-1892797200-1892800800@wootton.org.au
SUMMARY:Yoga at the Hall - Monday
DESCRIPTION:Yoga classes are available for beginners through to expert level. \nEvery Monday 9:00 am – 10 am and Wednesday 9:15 am – 10:45 am. \nContact Naomi on … 0499-098-123
URL:https://wootton.org.au/event/yoga-at-the-hall-monday-2/2029-12-24/
LOCATION:School Hall\, 1633 Wootton Way\, Wootton\, NSW\, Australia
ATTACH;FMTTYPE=image/jpeg:https://wootton.org.au/wp-content/uploads/2025/04/Yoga-2025.jpeg
END:VEVENT
BEGIN:VEVENT
DTSTART;TZID=UTC:20291226T091500
DTEND;TZID=UTC:20291226T104500
DTSTAMP:20260421T090858
CREATED:20230508T015700Z
LAST-MODIFIED:20250401T035320Z
UID:10004300-1892970900-1892976300@wootton.org.au
SUMMARY:Yoga at the Hall - Wednesday
DESCRIPTION:Yoga classes are available for beginners through to expert level. \nEvery Monday 9:00 am – 10 am and Wednesday 9:15 am – 10:45 am. \nContact Naomi on … 0499-098-123
URL:https://wootton.org.au/event/yoga-at-the-hall-wednesdays/2029-12-26/
LOCATION:School Hall\, 1633 Wootton Way\, Wootton\, NSW\, Australia
ATTACH;FMTTYPE=image/jpeg:https://wootton.org.au/wp-content/uploads/2025/04/Yoga-2025.jpeg
END:VEVENT
BEGIN:VEVENT
DTSTART;TZID=UTC:20291231T090000
DTEND;TZID=UTC:20291231T100000
DTSTAMP:20260421T090858
CREATED:20231217T022321Z
LAST-MODIFIED:20250401T035548Z
UID:10004368-1893402000-1893405600@wootton.org.au
SUMMARY:Yoga at the Hall - Monday
DESCRIPTION:Yoga classes are available for beginners through to expert level. \nEvery Monday 9:00 am – 10 am and Wednesday 9:15 am – 10:45 am. \nContact Naomi on … 0499-098-123
URL:https://wootton.org.au/event/yoga-at-the-hall-monday-2/2029-12-31/
LOCATION:School Hall\, 1633 Wootton Way\, Wootton\, NSW\, Australia
ATTACH;FMTTYPE=image/jpeg:https://wootton.org.au/wp-content/uploads/2025/04/Yoga-2025.jpeg
END:VEVENT
BEGIN:VEVENT
DTSTART;TZID=UTC:20300102T091500
DTEND;TZID=UTC:20300102T104500
DTSTAMP:20260421T090858
CREATED:20230508T015700Z
LAST-MODIFIED:20250401T035320Z
UID:10004301-1893575700-1893581100@wootton.org.au
SUMMARY:Yoga at the Hall - Wednesday
DESCRIPTION:Yoga classes are available for beginners through to expert level. \nEvery Monday 9:00 am – 10 am and Wednesday 9:15 am – 10:45 am. \nContact Naomi on … 0499-098-123
URL:https://wootton.org.au/event/yoga-at-the-hall-wednesdays/2030-01-02/
LOCATION:School Hall\, 1633 Wootton Way\, Wootton\, NSW\, Australia
ATTACH;FMTTYPE=image/jpeg:https://wootton.org.au/wp-content/uploads/2025/04/Yoga-2025.jpeg
END:VEVENT
BEGIN:VEVENT
DTSTART;TZID=UTC:20300107T090000
DTEND;TZID=UTC:20300107T100000
DTSTAMP:20260421T090858
CREATED:20231217T022321Z
LAST-MODIFIED:20250401T035548Z
UID:10004369-1894006800-1894010400@wootton.org.au
SUMMARY:Yoga at the Hall - Monday
DESCRIPTION:Yoga classes are available for beginners through to expert level. \nEvery Monday 9:00 am – 10 am and Wednesday 9:15 am – 10:45 am. \nContact Naomi on … 0499-098-123
URL:https://wootton.org.au/event/yoga-at-the-hall-monday-2/2030-01-07/
LOCATION:School Hall\, 1633 Wootton Way\, Wootton\, NSW\, Australia
ATTACH;FMTTYPE=image/jpeg:https://wootton.org.au/wp-content/uploads/2025/04/Yoga-2025.jpeg
END:VEVENT
BEGIN:VEVENT
DTSTART;TZID=UTC:20300109T091500
DTEND;TZID=UTC:20300109T104500
DTSTAMP:20260421T090858
CREATED:20230508T015700Z
LAST-MODIFIED:20250401T035320Z
UID:10004302-1894180500-1894185900@wootton.org.au
SUMMARY:Yoga at the Hall - Wednesday
DESCRIPTION:Yoga classes are available for beginners through to expert level. \nEvery Monday 9:00 am – 10 am and Wednesday 9:15 am – 10:45 am. \nContact Naomi on … 0499-098-123
URL:https://wootton.org.au/event/yoga-at-the-hall-wednesdays/2030-01-09/
LOCATION:School Hall\, 1633 Wootton Way\, Wootton\, NSW\, Australia
ATTACH;FMTTYPE=image/jpeg:https://wootton.org.au/wp-content/uploads/2025/04/Yoga-2025.jpeg
END:VEVENT
BEGIN:VEVENT
DTSTART;TZID=UTC:20300114T090000
DTEND;TZID=UTC:20300114T100000
DTSTAMP:20260421T090858
CREATED:20231217T022321Z
LAST-MODIFIED:20250401T035548Z
UID:10004370-1894611600-1894615200@wootton.org.au
SUMMARY:Yoga at the Hall - Monday
DESCRIPTION:Yoga classes are available for beginners through to expert level. \nEvery Monday 9:00 am – 10 am and Wednesday 9:15 am – 10:45 am. \nContact Naomi on … 0499-098-123
URL:https://wootton.org.au/event/yoga-at-the-hall-monday-2/2030-01-14/
LOCATION:School Hall\, 1633 Wootton Way\, Wootton\, NSW\, Australia
ATTACH;FMTTYPE=image/jpeg:https://wootton.org.au/wp-content/uploads/2025/04/Yoga-2025.jpeg
END:VEVENT
BEGIN:VEVENT
DTSTART;TZID=UTC:20300116T091500
DTEND;TZID=UTC:20300116T104500
DTSTAMP:20260421T090858
CREATED:20230508T015700Z
LAST-MODIFIED:20250401T035320Z
UID:10004303-1894785300-1894790700@wootton.org.au
SUMMARY:Yoga at the Hall - Wednesday
DESCRIPTION:Yoga classes are available for beginners through to expert level. \nEvery Monday 9:00 am – 10 am and Wednesday 9:15 am – 10:45 am. \nContact Naomi on … 0499-098-123
URL:https://wootton.org.au/event/yoga-at-the-hall-wednesdays/2030-01-16/
LOCATION:School Hall\, 1633 Wootton Way\, Wootton\, NSW\, Australia
ATTACH;FMTTYPE=image/jpeg:https://wootton.org.au/wp-content/uploads/2025/04/Yoga-2025.jpeg
END:VEVENT
BEGIN:VEVENT
DTSTART;TZID=UTC:20300121T090000
DTEND;TZID=UTC:20300121T100000
DTSTAMP:20260421T090858
CREATED:20231217T022321Z
LAST-MODIFIED:20250401T035548Z
UID:10004371-1895216400-1895220000@wootton.org.au
SUMMARY:Yoga at the Hall - Monday
DESCRIPTION:Yoga classes are available for beginners through to expert level. \nEvery Monday 9:00 am – 10 am and Wednesday 9:15 am – 10:45 am. \nContact Naomi on … 0499-098-123
URL:https://wootton.org.au/event/yoga-at-the-hall-monday-2/2030-01-21/
LOCATION:School Hall\, 1633 Wootton Way\, Wootton\, NSW\, Australia
ATTACH;FMTTYPE=image/jpeg:https://wootton.org.au/wp-content/uploads/2025/04/Yoga-2025.jpeg
END:VEVENT
BEGIN:VEVENT
DTSTART;TZID=UTC:20300123T091500
DTEND;TZID=UTC:20300123T104500
DTSTAMP:20260421T090858
CREATED:20230508T015700Z
LAST-MODIFIED:20250401T035320Z
UID:10004304-1895390100-1895395500@wootton.org.au
SUMMARY:Yoga at the Hall - Wednesday
DESCRIPTION:Yoga classes are available for beginners through to expert level. \nEvery Monday 9:00 am – 10 am and Wednesday 9:15 am – 10:45 am. \nContact Naomi on … 0499-098-123
URL:https://wootton.org.au/event/yoga-at-the-hall-wednesdays/2030-01-23/
LOCATION:School Hall\, 1633 Wootton Way\, Wootton\, NSW\, Australia
ATTACH;FMTTYPE=image/jpeg:https://wootton.org.au/wp-content/uploads/2025/04/Yoga-2025.jpeg
END:VEVENT
BEGIN:VEVENT
DTSTART;TZID=UTC:20300128T090000
DTEND;TZID=UTC:20300128T100000
DTSTAMP:20260421T090858
CREATED:20231217T022321Z
LAST-MODIFIED:20250401T035548Z
UID:10004372-1895821200-1895824800@wootton.org.au
SUMMARY:Yoga at the Hall - Monday
DESCRIPTION:Yoga classes are available for beginners through to expert level. \nEvery Monday 9:00 am – 10 am and Wednesday 9:15 am – 10:45 am. \nContact Naomi on … 0499-098-123
URL:https://wootton.org.au/event/yoga-at-the-hall-monday-2/2030-01-28/
LOCATION:School Hall\, 1633 Wootton Way\, Wootton\, NSW\, Australia
ATTACH;FMTTYPE=image/jpeg:https://wootton.org.au/wp-content/uploads/2025/04/Yoga-2025.jpeg
END:VEVENT
BEGIN:VEVENT
DTSTART;TZID=UTC:20300130T091500
DTEND;TZID=UTC:20300130T104500
DTSTAMP:20260421T090858
CREATED:20230508T015700Z
LAST-MODIFIED:20250401T035320Z
UID:10004305-1895994900-1896000300@wootton.org.au
SUMMARY:Yoga at the Hall - Wednesday
DESCRIPTION:Yoga classes are available for beginners through to expert level. \nEvery Monday 9:00 am – 10 am and Wednesday 9:15 am – 10:45 am. \nContact Naomi on … 0499-098-123
URL:https://wootton.org.au/event/yoga-at-the-hall-wednesdays/2030-01-30/
LOCATION:School Hall\, 1633 Wootton Way\, Wootton\, NSW\, Australia
ATTACH;FMTTYPE=image/jpeg:https://wootton.org.au/wp-content/uploads/2025/04/Yoga-2025.jpeg
END:VEVENT
BEGIN:VEVENT
DTSTART;TZID=UTC:20300204T090000
DTEND;TZID=UTC:20300204T100000
DTSTAMP:20260421T090859
CREATED:20231217T022321Z
LAST-MODIFIED:20250401T035548Z
UID:10004373-1896426000-1896429600@wootton.org.au
SUMMARY:Yoga at the Hall - Monday
DESCRIPTION:Yoga classes are available for beginners through to expert level. \nEvery Monday 9:00 am – 10 am and Wednesday 9:15 am – 10:45 am. \nContact Naomi on … 0499-098-123
URL:https://wootton.org.au/event/yoga-at-the-hall-monday-2/2030-02-04/
LOCATION:School Hall\, 1633 Wootton Way\, Wootton\, NSW\, Australia
ATTACH;FMTTYPE=image/jpeg:https://wootton.org.au/wp-content/uploads/2025/04/Yoga-2025.jpeg
END:VEVENT
BEGIN:VEVENT
DTSTART;TZID=UTC:20300206T091500
DTEND;TZID=UTC:20300206T104500
DTSTAMP:20260421T090859
CREATED:20230508T015700Z
LAST-MODIFIED:20250401T035320Z
UID:10004306-1896599700-1896605100@wootton.org.au
SUMMARY:Yoga at the Hall - Wednesday
DESCRIPTION:Yoga classes are available for beginners through to expert level. \nEvery Monday 9:00 am – 10 am and Wednesday 9:15 am – 10:45 am. \nContact Naomi on … 0499-098-123
URL:https://wootton.org.au/event/yoga-at-the-hall-wednesdays/2030-02-06/
LOCATION:School Hall\, 1633 Wootton Way\, Wootton\, NSW\, Australia
ATTACH;FMTTYPE=image/jpeg:https://wootton.org.au/wp-content/uploads/2025/04/Yoga-2025.jpeg
END:VEVENT
BEGIN:VEVENT
DTSTART;TZID=UTC:20300211T090000
DTEND;TZID=UTC:20300211T100000
DTSTAMP:20260421T090859
CREATED:20231217T022321Z
LAST-MODIFIED:20250401T035548Z
UID:10004374-1897030800-1897034400@wootton.org.au
SUMMARY:Yoga at the Hall - Monday
DESCRIPTION:Yoga classes are available for beginners through to expert level. \nEvery Monday 9:00 am – 10 am and Wednesday 9:15 am – 10:45 am. \nContact Naomi on … 0499-098-123
URL:https://wootton.org.au/event/yoga-at-the-hall-monday-2/2030-02-11/
LOCATION:School Hall\, 1633 Wootton Way\, Wootton\, NSW\, Australia
ATTACH;FMTTYPE=image/jpeg:https://wootton.org.au/wp-content/uploads/2025/04/Yoga-2025.jpeg
END:VEVENT
END:VCALENDAR