BEGIN:VCALENDAR
VERSION:2.0
PRODID:-//Wootton Community Network - ECPv6.15.20//NONSGML v1.0//EN
CALSCALE:GREGORIAN
METHOD:PUBLISH
X-ORIGINAL-URL:https://wootton.org.au
X-WR-CALDESC:Events for Wootton Community Network
REFRESH-INTERVAL;VALUE=DURATION:PT1H
X-Robots-Tag:noindex
X-PUBLISHED-TTL:PT1H
BEGIN:VTIMEZONE
TZID:Australia/Sydney
BEGIN:STANDARD
TZOFFSETFROM:+1100
TZOFFSETTO:+1000
TZNAME:AEST
DTSTART:20220402T160000
END:STANDARD
BEGIN:DAYLIGHT
TZOFFSETFROM:+1000
TZOFFSETTO:+1100
TZNAME:AEDT
DTSTART:20221001T160000
END:DAYLIGHT
BEGIN:STANDARD
TZOFFSETFROM:+1100
TZOFFSETTO:+1000
TZNAME:AEST
DTSTART:20230401T160000
END:STANDARD
BEGIN:DAYLIGHT
TZOFFSETFROM:+1000
TZOFFSETTO:+1100
TZNAME:AEDT
DTSTART:20230930T160000
END:DAYLIGHT
BEGIN:STANDARD
TZOFFSETFROM:+1100
TZOFFSETTO:+1000
TZNAME:AEST
DTSTART:20240406T160000
END:STANDARD
BEGIN:DAYLIGHT
TZOFFSETFROM:+1000
TZOFFSETTO:+1100
TZNAME:AEDT
DTSTART:20241005T160000
END:DAYLIGHT
BEGIN:STANDARD
TZOFFSETFROM:+1100
TZOFFSETTO:+1000
TZNAME:AEST
DTSTART:20250405T160000
END:STANDARD
BEGIN:DAYLIGHT
TZOFFSETFROM:+1000
TZOFFSETTO:+1100
TZNAME:AEDT
DTSTART:20251004T160000
END:DAYLIGHT
BEGIN:STANDARD
TZOFFSETFROM:+1100
TZOFFSETTO:+1000
TZNAME:AEST
DTSTART:20260404T160000
END:STANDARD
BEGIN:DAYLIGHT
TZOFFSETFROM:+1000
TZOFFSETTO:+1100
TZNAME:AEDT
DTSTART:20261003T160000
END:DAYLIGHT
BEGIN:STANDARD
TZOFFSETFROM:+1100
TZOFFSETTO:+1000
TZNAME:AEST
DTSTART:20270403T160000
END:STANDARD
BEGIN:DAYLIGHT
TZOFFSETFROM:+1000
TZOFFSETTO:+1100
TZNAME:AEDT
DTSTART:20271002T160000
END:DAYLIGHT
END:VTIMEZONE
BEGIN:VEVENT
DTSTART;TZID=Australia/Sydney:20260314T180000
DTEND;TZID=Australia/Sydney:20260314T223000
DTSTAMP:20260419T221911
CREATED:20260210T063958Z
LAST-MODIFIED:20260310T014701Z
UID:10004397-1773511200-1773527400@wootton.org.au
SUMMARY:Trivia Night 2026
DESCRIPTION:TRIVIA NIGHT – Saturday\, 14th March 2026 \nJoin us for a Wootton Community Trivia Night!\n\n\nChildren aged 14+ welcome.\n\nPrice includes dinner and donation to the Wootton Community Network – join the fun & support your local facilities.\nThere’ll be games and raffle prizes\, so empty your pockets\, centre consoles of your car and the bottom of your bag and bring your cash for a night of fun!\n\nBring a team of up to 8 friends or join a team on the night and make new friends!\n\nLOCATION: WOOTTON COMMUNITY HALL\, 1633 WOOTTON WAY\nTIME: Saturday 14th March\, dinner from 6:15pm\, trivia begins 7:00pm \nPLEASE BRING YOUR OWN DRINKS AND GLASSES \nRAFFLES / PRIZES UP FOR GRABS\nLOTS OF FUN TO BE HAD \nSEATS ARE LIMITED\, PLEASE BOOK TICKETS BELOW … \n\nPlenty of ham\, coleslaw/salad\, vegetable quiche and ice-cream dessert. \n\nPurchase tickets here
URL:https://wootton.org.au/event/trivia-night-2026-march/
LOCATION:Community Hall\, 1633 Wootton Way\, WOOTTON\, New South Wales\, 2423\, Australia
CATEGORIES:Community Dinner
ATTACH;FMTTYPE=image/jpeg:https://wootton.org.au/wp-content/uploads/2025/08/Trivia-Night-October.jpg
ORGANIZER;CN="WCN Secretary":MAILTO:secretary@wootton.org.au
END:VEVENT
BEGIN:VEVENT
DTSTART;TZID=Australia/Sydney:20260129T180000
DTEND;TZID=Australia/Sydney:20260129T200000
DTSTAMP:20260419T221911
CREATED:20250124T023627Z
LAST-MODIFIED:20260124T062755Z
UID:10003888-1769709600-1769716800@wootton.org.au
SUMMARY:Kids Disco
DESCRIPTION:Kids Disco\nPublic – Event by Wootton RFS Fundraising\nWootton Community Hall\nThursday 29th January\, 6pm – 8pm \nWhat to expect:\nBring the kids (and organise a group of their friends) and come and enjoy two hours of great music\, dancing and games with DJ Nathan and help the Wootton RFS raise some funds. \nCost: $15 per child\, includes a sausage sandwich and a drink. \nDonations here.\nNOTE: this event will only run if there are sufficient kids interested.
URL:https://wootton.org.au/event/kids-disco/
LOCATION:Community Hall\, 1633 Wootton Way\, WOOTTON\, New South Wales\, 2423\, Australia
CATEGORIES:Wootton RFS
ATTACH;FMTTYPE=image/jpeg:https://wootton.org.au/wp-content/uploads/2025/01/Kids-Disco-image-only-30Jan25-KH-e1737685413204.jpg
END:VEVENT
BEGIN:VEVENT
DTSTART;TZID=Australia/Sydney:20250330T180000
DTEND;TZID=Australia/Sydney:20250330T223000
DTSTAMP:20260419T221911
CREATED:20250225T030837Z
LAST-MODIFIED:20250403T034928Z
UID:10003889-1743357600-1743373800@wootton.org.au
SUMMARY:Trivia Night 2025
DESCRIPTION:TRIVIA NIGHT 2025 \nJoin us for a Wootton Community Trivia Night!\n\n\nChildren aged 14+ welcome\n\nPrice includes dinner and donation to the Wootton Community Network – join the fun & support your local facilities\nThere’ll be games and raffle prizes\, so empty your pockets\, centre consoles of your car and the bottom of your bag and bring your cash for a night of fun!\n\nBring a team of up to 8 friends or join a team on the night and make new friends!\n\nLOCATION: WOOTTON COMMUNITY HALL\, 1633 WOOTTON WAY\nTIME: Sunday 30th of March\, dinner from 6:15pm\, trivia begins 7:00pm\nFollowing on from Wootton SUNDOWNERS at 5:30pm \nPLEASE BRING YOUR OWN DRINKS AND GLASSES \nRAFFLES / PRIZES UP FOR GRABS\nLOTS OF FUN TO BE HAD \nSEATS ARE LIMITED\, PLEASE BOOK TICKETS BELOW … \n\nMain course options are:\n– CS   : Chunky Steak pie\, mash potato and peas\n– GF   : Gluten Free vegetarian quiche\, mash potato and peas\n– GFP: Gluten Free steak pie\, mash potato and peas
URL:https://wootton.org.au/event/trivia-night-2025/
LOCATION:Community Hall\, 1633 Wootton Way\, WOOTTON\, New South Wales\, 2423\, Australia
CATEGORIES:Community Dinner
ATTACH;FMTTYPE=image/jpeg:https://wootton.org.au/wp-content/uploads/2023/07/Trivia-Night-e1690085187947.jpg
ORGANIZER;CN="WCN Secretary":MAILTO:secretary@wootton.org.au
END:VEVENT
BEGIN:VEVENT
DTSTART;TZID=Australia/Sydney:20250208T103000
DTEND;TZID=Australia/Sydney:20250208T120000
DTSTAMP:20260419T221911
CREATED:20250124T020620Z
LAST-MODIFIED:20250124T020948Z
UID:10003887-1739010600-1739016000@wootton.org.au
SUMMARY:Have Your Say ... morning tea
DESCRIPTION:Celebrating 20 years of the Wootton Community Resource Centre and Brush Turkey Cafe. \nCome join us for a morning tea from 10:30am and discuss ideas for the future of the Centre and the Brush Turkey Cafe. \nStay after the morning tea for the Wootton Food Swap at 12 noon and connect with others in our community.\nContribute to a potluck lunch if you’d like to stay longer and share a meal with your neighbours! \nNothing is off the table for ideas for the future of the community. \nSee you there! \nIf you can’t make the 8th\, you can still have your say … here!
URL:https://wootton.org.au/event/have-your-say-morning-tea/
LOCATION:Community Hall\, 1633 Wootton Way\, WOOTTON\, New South Wales\, 2423\, Australia
CATEGORIES:Community Event
ATTACH;FMTTYPE=image/jpeg:https://wootton.org.au/wp-content/uploads/2025/01/WCN-Brush-Turkey-logo-e1737684353450.jpg
END:VEVENT
BEGIN:VEVENT
DTSTART;TZID=Australia/Sydney:20241215T170000
DTEND;TZID=Australia/Sydney:20241215T210000
DTSTAMP:20260419T221911
CREATED:20241113T001153Z
LAST-MODIFIED:20241211T050730Z
UID:10003801-1734282000-1734296400@wootton.org.au
SUMMARY:Wootton Community Christmas Party
DESCRIPTION:BYO Drinks and Rug! \n$30 pp for WCN members\n$35 pp for non-members\nChildren under 16 free – for catering\, please book one Child ticket for each child\n(Book and pay for tickets below) \nIncludes entertainment (live music) and dinner prepared by Knowla at the Brush Turkey Café. \n\nSample menu:                                                                                               \n     Mains:                                                                                                            Sides:\n\nAntipasto platters with dips and crackers\, Garden salad\,                              Pasta salad\,\nFruit and vegetable platters\, lollies and cookies\,                                           Carrot chickpea sultana spiced salad\,\nCold sliced Xmas Ham\,                                                                                 Roasted vegetables\,\nHot and cold chicken dishes\,                                                                         Rice\,\nRoast pork with apple sauce\,                                                                        Corn cobs\,\nVegetable loaf with cranberry sauce.                                                            Dinner rolls with butter.\n 
URL:https://wootton.org.au/event/2024-christmas-party/
LOCATION:Community Hall\, 1633 Wootton Way\, WOOTTON\, New South Wales\, 2423\, Australia
CATEGORIES:Xmas Party
ATTACH;FMTTYPE=image/jpeg:https://wootton.org.au/wp-content/uploads/2024/11/Christmas-Party-small-2024-1.jpg
END:VEVENT
BEGIN:VEVENT
DTSTART;TZID=Australia/Sydney:20240419T100000
DTEND;TZID=Australia/Sydney:20240419T120000
DTSTAMP:20260419T221911
CREATED:20240302T063113Z
LAST-MODIFIED:20240929T064553Z
UID:10000683-1713520800-1713528000@wootton.org.au
SUMMARY:Wootton Library
DESCRIPTION:
URL:https://wootton.org.au/event/wootton-library-2/
LOCATION:Community Hall\, 1633 Wootton Way\, WOOTTON\, New South Wales\, 2423\, Australia
CATEGORIES:Wootton Library
ATTACH;FMTTYPE=image/jpeg:https://wootton.org.au/wp-content/uploads/2023/03/Wootton-Community-Hall-1.jpg
END:VEVENT
BEGIN:VEVENT
DTSTART;TZID=Australia/Sydney:20240216T100000
DTEND;TZID=Australia/Sydney:20240216T120000
DTSTAMP:20260419T221911
CREATED:20230419T000039Z
LAST-MODIFIED:20240929T064553Z
UID:10000684-1708077600-1708084800@wootton.org.au
SUMMARY:Wootton Library
DESCRIPTION:
URL:https://wootton.org.au/event/wootton-library-3/
LOCATION:Community Hall\, 1633 Wootton Way\, WOOTTON\, New South Wales\, 2423\, Australia
CATEGORIES:Wootton Library
ATTACH;FMTTYPE=image/jpeg:https://wootton.org.au/wp-content/uploads/2023/03/Wootton-Community-Hall-1.jpg
END:VEVENT
BEGIN:VEVENT
DTSTART;TZID=Australia/Sydney:20231208T083000
DTEND;TZID=Australia/Sydney:20231208T140000
DTSTAMP:20260419T221911
CREATED:20231206T011539Z
LAST-MODIFIED:20240929T064555Z
UID:10003149-1702024200-1702044000@wootton.org.au
SUMMARY:Landcare - Lanscape & Fire Engagement Worshop
DESCRIPTION:The next part of the Landscape and Fire Engagement program is coming up … \nWorkshop 3: Wootton/ Bungwahl Burn Plan Field Day on Friday 8 December at 8.30am!\nThe workshop will be held at the Wootton Community Hall. \nThe workshop has a cap of 30 people; first in\, best dressed. There will be a visit and walk around a local property. \nClick the link to sign up: Landscape & Fire Engagement Workshop 3.
URL:https://wootton.org.au/event/landcare-lanscape-fire-engagement-worshop/
LOCATION:Community Hall\, 1633 Wootton Way\, WOOTTON\, New South Wales\, 2423\, Australia
ATTACH;FMTTYPE=image/png:https://wootton.org.au/wp-content/uploads/2023/12/Landscape-and-Fire-Engagement-Series-Flyer-SMALL-e1701825271982.png
END:VEVENT
BEGIN:VEVENT
DTSTART;VALUE=DATE:20230929
DTEND;VALUE=DATE:20231002
DTSTAMP:20260419T221911
CREATED:20230809T054029Z
LAST-MODIFIED:20240929T064555Z
UID:10003141-1695945600-1696204799@wootton.org.au
SUMMARY:A Feast for the Eyes
DESCRIPTION:The Wootton Creative Alliance will be staging an exhibition of art\, sculpture and photographs. \nEnjoy some cafe delights from Hardwood Espresso and then browse the exhibition in the Hall. \nDaily open hours:\nFriday Sept 29th 10:00 am to 3:00 pm\nSaturday Sept 30th 10:00 am to 3:00 pm\nSunday Oct 1st 10:00 am to 3:00 pm \n 
URL:https://wootton.org.au/event/artists-of-wootton-surrounds/
LOCATION:Community Hall\, 1633 Wootton Way\, WOOTTON\, New South Wales\, 2423\, Australia
CATEGORIES:Exhibition
ATTACH;FMTTYPE=image/jpeg:https://wootton.org.au/wp-content/uploads/2023/08/A-Feast-for-the-eyes-Poster-e1692848539169.jpg
END:VEVENT
BEGIN:VEVENT
DTSTART;TZID=Australia/Sydney:20230702T090000
DTEND;TZID=Australia/Sydney:20230702T140000
DTSTAMP:20260419T221911
CREATED:20230609T051222Z
LAST-MODIFIED:20230609T052247Z
UID:10003129-1688288400-1688306400@wootton.org.au
SUMMARY:Aboriginal Art Workshop
DESCRIPTION:There will be an Aboriginal art workshop held on Sunday 2nd July to celebrate NAIDOC Week. \nThe workshop will be conducted by Chris George and held in the Wootton Hall from 9am – 2pm.\nParticipants will learn about Aboriginal art history & concepts and create their own small personal artwork on the day. \nCost is $20 per person and includes all materials and a small canvas. \nBookings are limited to 20 people (10 yrs old and above) on a first in first served basis and can be made by contacting Chris directly on 0411-036-917. \nRSVP required.
URL:https://wootton.org.au/event/aboriginal-art-workshop/
LOCATION:Community Hall\, 1633 Wootton Way\, WOOTTON\, New South Wales\, 2423\, Australia
ATTACH;FMTTYPE=image/png:https://wootton.org.au/wp-content/uploads/2023/06/July-AAW.png
ORGANIZER;CN="Wootton Creative Alliance":MAILTO:wca@wootton.org.au
END:VEVENT
END:VCALENDAR