BEGIN:VCALENDAR
VERSION:2.0
PRODID:-//Wootton Community Network - ECPv6.15.20//NONSGML v1.0//EN
CALSCALE:GREGORIAN
METHOD:PUBLISH
X-WR-CALNAME:Wootton Community Network
X-ORIGINAL-URL:https://wootton.org.au
X-WR-CALDESC:Events for Wootton Community Network
REFRESH-INTERVAL;VALUE=DURATION:PT1H
X-Robots-Tag:noindex
X-PUBLISHED-TTL:PT1H
BEGIN:VTIMEZONE
TZID:Australia/Sydney
BEGIN:STANDARD
TZOFFSETFROM:+1100
TZOFFSETTO:+1000
TZNAME:AEST
DTSTART:20250405T160000
END:STANDARD
BEGIN:DAYLIGHT
TZOFFSETFROM:+1000
TZOFFSETTO:+1100
TZNAME:AEDT
DTSTART:20251004T160000
END:DAYLIGHT
BEGIN:STANDARD
TZOFFSETFROM:+1100
TZOFFSETTO:+1000
TZNAME:AEST
DTSTART:20260404T160000
END:STANDARD
BEGIN:DAYLIGHT
TZOFFSETFROM:+1000
TZOFFSETTO:+1100
TZNAME:AEDT
DTSTART:20261003T160000
END:DAYLIGHT
BEGIN:STANDARD
TZOFFSETFROM:+1100
TZOFFSETTO:+1000
TZNAME:AEST
DTSTART:20270403T160000
END:STANDARD
BEGIN:DAYLIGHT
TZOFFSETFROM:+1000
TZOFFSETTO:+1100
TZNAME:AEDT
DTSTART:20271002T160000
END:DAYLIGHT
END:VTIMEZONE
BEGIN:VEVENT
DTSTART;TZID=Australia/Sydney:20260530T100000
DTEND;TZID=Australia/Sydney:20260530T123000
DTSTAMP:20260420T155932
CREATED:20250501T030027Z
LAST-MODIFIED:20260331T003300Z
UID:10003245-1780135200-1780144200@wootton.org.au
SUMMARY:Wootton Biggest Morning Tea
DESCRIPTION:HELLO Woottonites and guests\,\nYou are invited to our Australia’s Biggest Morning Tea in Wootton. \nLet’s get together and enjoy a cuppa so we can support those impacted by cancer. \nHOSTS:     Wootton Community Network\nWHERE:    The Brush Turkey Cafe\nDATE:        Saturday 30th May 2026\nTIME:        10 am – 1:00 pm\nRSVP:       Not essential\nPHONE:    0427-751-984 (Carol) to donation or book a table\nDETAILS:  includes Raffles/Door prize(s)\, Cake auction\, Silent auction\, tea/coffee\, scones and assorted sweet & savoury goodies \nReserve a table | Donate a prize\, phone 0427-751-984
URL:https://wootton.org.au/event/wootton-biggest-morning-tea/
LOCATION:Brush Turkey Cafe\, 1633 Wootton Way\, Wootton\, NSW\, 2423\, Australia
ATTACH;FMTTYPE=image/png:https://wootton.org.au/wp-content/uploads/2025/05/Logo2026-2.png
END:VEVENT
END:VCALENDAR