BEGIN:VCALENDAR
VERSION:2.0
PRODID:-//Wootton Community Network - ECPv6.15.20//NONSGML v1.0//EN
CALSCALE:GREGORIAN
METHOD:PUBLISH
X-WR-CALNAME:Wootton Community Network
X-ORIGINAL-URL:https://wootton.org.au
X-WR-CALDESC:Events for Wootton Community Network
REFRESH-INTERVAL;VALUE=DURATION:PT1H
X-Robots-Tag:noindex
X-PUBLISHED-TTL:PT1H
BEGIN:VTIMEZONE
TZID:Australia/Sydney
BEGIN:STANDARD
TZOFFSETFROM:+1100
TZOFFSETTO:+1000
TZNAME:AEST
DTSTART:20210403T160000
END:STANDARD
BEGIN:DAYLIGHT
TZOFFSETFROM:+1000
TZOFFSETTO:+1100
TZNAME:AEDT
DTSTART:20211002T160000
END:DAYLIGHT
BEGIN:STANDARD
TZOFFSETFROM:+1100
TZOFFSETTO:+1000
TZNAME:AEST
DTSTART:20220402T160000
END:STANDARD
BEGIN:DAYLIGHT
TZOFFSETFROM:+1000
TZOFFSETTO:+1100
TZNAME:AEDT
DTSTART:20221001T160000
END:DAYLIGHT
BEGIN:STANDARD
TZOFFSETFROM:+1100
TZOFFSETTO:+1000
TZNAME:AEST
DTSTART:20230401T160000
END:STANDARD
BEGIN:DAYLIGHT
TZOFFSETFROM:+1000
TZOFFSETTO:+1100
TZNAME:AEDT
DTSTART:20230930T160000
END:DAYLIGHT
END:VTIMEZONE
BEGIN:VEVENT
DTSTART;TZID=Australia/Sydney:20220918T080000
DTEND;TZID=Australia/Sydney:20220919T170000
DTSTAMP:20260425T211115
CREATED:20220904T014908Z
LAST-MODIFIED:20220904T020859Z
UID:10000032-1663488000-1663606800@wootton.org.au
SUMMARY:Sculpture in the Vineyards
DESCRIPTION:Road trip and picnic Sculpture in the Vineyards. \nAll welcome – meet at 8am at the Hardwood Espresso for a fortifying coffee. \nVarious indoor venues\, \nPicnic lunch at Stonehurst Cedar Creek.  \nContact Tracy Smith 0400311157 
URL:https://wootton.org.au/event/sculpture-in-the-vineyards/
ATTACH;FMTTYPE=image/jpeg:https://wootton.org.au/wp-content/uploads/2022/09/sculpture-by-greer-taylor-1-scaled.jpg
END:VEVENT
END:VCALENDAR