BEGIN:VCALENDAR
VERSION:2.0
PRODID:-//Wootton Community Network - ECPv6.15.20//NONSGML v1.0//EN
CALSCALE:GREGORIAN
METHOD:PUBLISH
X-WR-CALNAME:Wootton Community Network
X-ORIGINAL-URL:https://wootton.org.au
X-WR-CALDESC:Events for Wootton Community Network
REFRESH-INTERVAL;VALUE=DURATION:PT1H
X-Robots-Tag:noindex
X-PUBLISHED-TTL:PT1H
BEGIN:VTIMEZONE
TZID:Australia/Sydney
BEGIN:STANDARD
TZOFFSETFROM:+1100
TZOFFSETTO:+1000
TZNAME:AEST
DTSTART:20220402T160000
END:STANDARD
BEGIN:DAYLIGHT
TZOFFSETFROM:+1000
TZOFFSETTO:+1100
TZNAME:AEDT
DTSTART:20221001T160000
END:DAYLIGHT
BEGIN:STANDARD
TZOFFSETFROM:+1100
TZOFFSETTO:+1000
TZNAME:AEST
DTSTART:20230401T160000
END:STANDARD
BEGIN:DAYLIGHT
TZOFFSETFROM:+1000
TZOFFSETTO:+1100
TZNAME:AEDT
DTSTART:20230930T160000
END:DAYLIGHT
BEGIN:STANDARD
TZOFFSETFROM:+1100
TZOFFSETTO:+1000
TZNAME:AEST
DTSTART:20240406T160000
END:STANDARD
BEGIN:DAYLIGHT
TZOFFSETFROM:+1000
TZOFFSETTO:+1100
TZNAME:AEDT
DTSTART:20241005T160000
END:DAYLIGHT
BEGIN:STANDARD
TZOFFSETFROM:+1100
TZOFFSETTO:+1000
TZNAME:AEST
DTSTART:20250405T160000
END:STANDARD
BEGIN:DAYLIGHT
TZOFFSETFROM:+1000
TZOFFSETTO:+1100
TZNAME:AEDT
DTSTART:20251004T160000
END:DAYLIGHT
BEGIN:STANDARD
TZOFFSETFROM:+1100
TZOFFSETTO:+1000
TZNAME:AEST
DTSTART:20260404T160000
END:STANDARD
BEGIN:DAYLIGHT
TZOFFSETFROM:+1000
TZOFFSETTO:+1100
TZNAME:AEDT
DTSTART:20261003T160000
END:DAYLIGHT
END:VTIMEZONE
BEGIN:VEVENT
DTSTART;TZID=Australia/Sydney:20251129T170000
DTEND;TZID=Australia/Sydney:20251129T213000
DTSTAMP:20260421T123919
CREATED:20250819T060810Z
LAST-MODIFIED:20251112T231611Z
UID:10004400-1764435600-1764451800@wootton.org.au
SUMMARY:End of Year Party
DESCRIPTION:Mark the date! \nWootton community Xmas get-together\, from 5pm on the 29th of November 2025 \nNon-members $25\nMembers $20 \nBuy tickets to the event here – kids 14 and under free!\nNibbles – pre-dinner\nMains – leg ham / salmon\, coleslaw\, condiments\, bread rolls\nDessert – trifle\, lemon myrtle cheesecakes\, mince pies. \nBYO drinks and a chair or rug \nRaffles supporting the maintenance of the Wootton community hall available onsite
URL:https://wootton.org.au/event/end-of-year-party/
CATEGORIES:Xmas Party
ATTACH;FMTTYPE=image/jpeg:https://wootton.org.au/wp-content/uploads/2025/11/Xmas-Party-1.jpg
END:VEVENT
BEGIN:VEVENT
DTSTART;TZID=Australia/Sydney:20241215T170000
DTEND;TZID=Australia/Sydney:20241215T210000
DTSTAMP:20260421T123919
CREATED:20241113T001153Z
LAST-MODIFIED:20241211T050730Z
UID:10003801-1734282000-1734296400@wootton.org.au
SUMMARY:Wootton Community Christmas Party
DESCRIPTION:BYO Drinks and Rug! \n$30 pp for WCN members\n$35 pp for non-members\nChildren under 16 free – for catering\, please book one Child ticket for each child\n(Book and pay for tickets below) \nIncludes entertainment (live music) and dinner prepared by Knowla at the Brush Turkey Café. \n\nSample menu:                                                                                               \n     Mains:                                                                                                            Sides:\n\nAntipasto platters with dips and crackers\, Garden salad\,                              Pasta salad\,\nFruit and vegetable platters\, lollies and cookies\,                                           Carrot chickpea sultana spiced salad\,\nCold sliced Xmas Ham\,                                                                                 Roasted vegetables\,\nHot and cold chicken dishes\,                                                                         Rice\,\nRoast pork with apple sauce\,                                                                        Corn cobs\,\nVegetable loaf with cranberry sauce.                                                            Dinner rolls with butter.\n 
URL:https://wootton.org.au/event/2024-christmas-party/
LOCATION:Community Hall\, 1633 Wootton Way\, WOOTTON\, New South Wales\, 2423\, Australia
CATEGORIES:Xmas Party
ATTACH;FMTTYPE=image/jpeg:https://wootton.org.au/wp-content/uploads/2024/11/Christmas-Party-small-2024-1.jpg
END:VEVENT
BEGIN:VEVENT
DTSTART;TZID=Australia/Sydney:20231209T170000
DTEND;TZID=Australia/Sydney:20231209T203000
DTSTAMP:20260421T123919
CREATED:20231102T034513Z
LAST-MODIFIED:20240929T064554Z
UID:10003147-1702141200-1702153800@wootton.org.au
SUMMARY:WCN - Wootton Xmas Party
DESCRIPTION:Wootton Community Grounds\nBYO Drinks\, Rug & Food to share with family\, friends and neighbours while you’re entertained live\, by Kelly Hope from 6:00 pm. \nSanta from 5:30pm \nRaffle – Wheelbarrow Full-of-Goodies\nTickets onsite 3 for $10 \n 
URL:https://wootton.org.au/event/wcn-wootton-xmas-party/
LOCATION:Wootton Community Centre\, 1633 Wootton Way\, Wootton\, NSW\, Australia
CATEGORIES:Xmas Party
END:VEVENT
END:VCALENDAR