BEGIN:VCALENDAR
VERSION:2.0
PRODID:-//Wootton Community Network - ECPv6.15.20//NONSGML v1.0//EN
CALSCALE:GREGORIAN
METHOD:PUBLISH
X-ORIGINAL-URL:https://wootton.org.au
X-WR-CALDESC:Events for Wootton Community Network
REFRESH-INTERVAL;VALUE=DURATION:PT1H
X-Robots-Tag:noindex
X-PUBLISHED-TTL:PT1H
BEGIN:VTIMEZONE
TZID:Australia/Sydney
BEGIN:STANDARD
TZOFFSETFROM:+1100
TZOFFSETTO:+1000
TZNAME:AEST
DTSTART:20240406T160000
END:STANDARD
BEGIN:DAYLIGHT
TZOFFSETFROM:+1000
TZOFFSETTO:+1100
TZNAME:AEDT
DTSTART:20241005T160000
END:DAYLIGHT
BEGIN:STANDARD
TZOFFSETFROM:+1100
TZOFFSETTO:+1000
TZNAME:AEST
DTSTART:20250405T160000
END:STANDARD
BEGIN:DAYLIGHT
TZOFFSETFROM:+1000
TZOFFSETTO:+1100
TZNAME:AEDT
DTSTART:20251004T160000
END:DAYLIGHT
BEGIN:STANDARD
TZOFFSETFROM:+1100
TZOFFSETTO:+1000
TZNAME:AEST
DTSTART:20260404T160000
END:STANDARD
BEGIN:DAYLIGHT
TZOFFSETFROM:+1000
TZOFFSETTO:+1100
TZNAME:AEDT
DTSTART:20261003T160000
END:DAYLIGHT
BEGIN:STANDARD
TZOFFSETFROM:+1100
TZOFFSETTO:+1000
TZNAME:AEST
DTSTART:20270403T160000
END:STANDARD
BEGIN:DAYLIGHT
TZOFFSETFROM:+1000
TZOFFSETTO:+1100
TZNAME:AEDT
DTSTART:20271002T160000
END:DAYLIGHT
END:VTIMEZONE
BEGIN:VEVENT
DTSTART;TZID=Australia/Sydney:20260411T130000
DTEND;TZID=Australia/Sydney:20260411T150000
DTSTAMP:20260421T033334
CREATED:20260331T004854Z
LAST-MODIFIED:20260331T005336Z
UID:10004493-1775912400-1775919600@wootton.org.au
SUMMARY:Monthly Meetup
DESCRIPTION:WOOTTON SOCIAL \nA friendly monthly meetup at the Wootton Community Hall. \nAll ages\, all welcome\, whether or not you live in Wootton! \nSecond Saturday of each month\, following Food Swap from 1:00 pm to 3:00 pm. \nInfo: Ged Crowley on 0409-904-629
URL:https://wootton.org.au/event/monthly_meetup/2026-04-11/
CATEGORIES:Community Event
ATTACH;FMTTYPE=image/jpeg:https://wootton.org.au/wp-content/uploads/2026/03/Meetup-2026.jpg
END:VEVENT
BEGIN:VEVENT
DTSTART;TZID=Australia/Sydney:20260329T170000
DTEND;TZID=Australia/Sydney:20260329T190000
DTSTAMP:20260421T033334
CREATED:20250401T033046Z
LAST-MODIFIED:20250401T033827Z
UID:10004197-1774803600-1774810800@wootton.org.au
SUMMARY:Wootton SUNDOWNERS
DESCRIPTION:SUNDOWNER DRINKS\nLast Sunday of the month from 5:00 pm onwards.\nJoin fellow Woottonites for impromtu drinks at the Community Centre / Brush Turkey Cafe. \nBring friends\, meet your neighbours\, talk about what’s happening locally\, in the state\, in the world\, in the universe! \nBYO drinks\, glasses and snacks. \nNo tickets\, no RSVP just turn up! \nCheck socials for occasionally aligned pizza nights.
URL:https://wootton.org.au/event/woottonsundowners-2/2026-03-29/
CATEGORIES:Community Event
ATTACH;FMTTYPE=image/jpeg:https://wootton.org.au/wp-content/uploads/2025/03/SUNDOWNERS_tanzania.jpg
END:VEVENT
BEGIN:VEVENT
DTSTART;TZID=Australia/Sydney:20260222T170000
DTEND;TZID=Australia/Sydney:20260222T190000
DTSTAMP:20260421T033334
CREATED:20250401T033046Z
LAST-MODIFIED:20250401T033827Z
UID:10004144-1771779600-1771786800@wootton.org.au
SUMMARY:Wootton SUNDOWNERS
DESCRIPTION:SUNDOWNER DRINKS\nLast Sunday of the month from 5:00 pm onwards.\nJoin fellow Woottonites for impromtu drinks at the Community Centre / Brush Turkey Cafe. \nBring friends\, meet your neighbours\, talk about what’s happening locally\, in the state\, in the world\, in the universe! \nBYO drinks\, glasses and snacks. \nNo tickets\, no RSVP just turn up! \nCheck socials for occasionally aligned pizza nights.
URL:https://wootton.org.au/event/woottonsundowners-2/2026-02-22/
CATEGORIES:Community Event
ATTACH;FMTTYPE=image/jpeg:https://wootton.org.au/wp-content/uploads/2025/03/SUNDOWNERS_tanzania.jpg
END:VEVENT
BEGIN:VEVENT
DTSTART;TZID=Australia/Sydney:20260125T170000
DTEND;TZID=Australia/Sydney:20260125T190000
DTSTAMP:20260421T033334
CREATED:20250401T033046Z
LAST-MODIFIED:20250401T033827Z
UID:10004143-1769360400-1769367600@wootton.org.au
SUMMARY:Wootton SUNDOWNERS
DESCRIPTION:SUNDOWNER DRINKS\nLast Sunday of the month from 5:00 pm onwards.\nJoin fellow Woottonites for impromtu drinks at the Community Centre / Brush Turkey Cafe. \nBring friends\, meet your neighbours\, talk about what’s happening locally\, in the state\, in the world\, in the universe! \nBYO drinks\, glasses and snacks. \nNo tickets\, no RSVP just turn up! \nCheck socials for occasionally aligned pizza nights.
URL:https://wootton.org.au/event/woottonsundowners-2/2026-01-25/
CATEGORIES:Community Event
ATTACH;FMTTYPE=image/jpeg:https://wootton.org.au/wp-content/uploads/2025/03/SUNDOWNERS_tanzania.jpg
END:VEVENT
BEGIN:VEVENT
DTSTART;TZID=Australia/Sydney:20251228T170000
DTEND;TZID=Australia/Sydney:20251228T190000
DTSTAMP:20260421T033334
CREATED:20250401T033046Z
LAST-MODIFIED:20250401T033827Z
UID:10004142-1766941200-1766948400@wootton.org.au
SUMMARY:Wootton SUNDOWNERS
DESCRIPTION:SUNDOWNER DRINKS\nLast Sunday of the month from 5:00 pm onwards.\nJoin fellow Woottonites for impromtu drinks at the Community Centre / Brush Turkey Cafe. \nBring friends\, meet your neighbours\, talk about what’s happening locally\, in the state\, in the world\, in the universe! \nBYO drinks\, glasses and snacks. \nNo tickets\, no RSVP just turn up! \nCheck socials for occasionally aligned pizza nights.
URL:https://wootton.org.au/event/woottonsundowners-2/2025-12-28/
CATEGORIES:Community Event
ATTACH;FMTTYPE=image/jpeg:https://wootton.org.au/wp-content/uploads/2025/03/SUNDOWNERS_tanzania.jpg
END:VEVENT
BEGIN:VEVENT
DTSTART;TZID=Australia/Sydney:20251130T170000
DTEND;TZID=Australia/Sydney:20251130T190000
DTSTAMP:20260421T033334
CREATED:20250401T033046Z
LAST-MODIFIED:20250401T033827Z
UID:10004196-1764522000-1764529200@wootton.org.au
SUMMARY:Wootton SUNDOWNERS
DESCRIPTION:SUNDOWNER DRINKS\nLast Sunday of the month from 5:00 pm onwards.\nJoin fellow Woottonites for impromtu drinks at the Community Centre / Brush Turkey Cafe. \nBring friends\, meet your neighbours\, talk about what’s happening locally\, in the state\, in the world\, in the universe! \nBYO drinks\, glasses and snacks. \nNo tickets\, no RSVP just turn up! \nCheck socials for occasionally aligned pizza nights.
URL:https://wootton.org.au/event/woottonsundowners-2/2025-11-30/
CATEGORIES:Community Event
ATTACH;FMTTYPE=image/jpeg:https://wootton.org.au/wp-content/uploads/2025/03/SUNDOWNERS_tanzania.jpg
END:VEVENT
BEGIN:VEVENT
DTSTART;TZID=Australia/Sydney:20251026T170000
DTEND;TZID=Australia/Sydney:20251026T190000
DTSTAMP:20260421T033334
CREATED:20250401T033046Z
LAST-MODIFIED:20250401T033827Z
UID:10004140-1761498000-1761505200@wootton.org.au
SUMMARY:Wootton SUNDOWNERS
DESCRIPTION:SUNDOWNER DRINKS\nLast Sunday of the month from 5:00 pm onwards.\nJoin fellow Woottonites for impromtu drinks at the Community Centre / Brush Turkey Cafe. \nBring friends\, meet your neighbours\, talk about what’s happening locally\, in the state\, in the world\, in the universe! \nBYO drinks\, glasses and snacks. \nNo tickets\, no RSVP just turn up! \nCheck socials for occasionally aligned pizza nights.
URL:https://wootton.org.au/event/woottonsundowners-2/2025-10-26/
CATEGORIES:Community Event
ATTACH;FMTTYPE=image/jpeg:https://wootton.org.au/wp-content/uploads/2025/03/SUNDOWNERS_tanzania.jpg
END:VEVENT
BEGIN:VEVENT
DTSTART;TZID=Australia/Sydney:20250928T170000
DTEND;TZID=Australia/Sydney:20250928T190000
DTSTAMP:20260421T033334
CREATED:20250401T033046Z
LAST-MODIFIED:20250401T033827Z
UID:10004139-1759078800-1759086000@wootton.org.au
SUMMARY:Wootton SUNDOWNERS
DESCRIPTION:SUNDOWNER DRINKS\nLast Sunday of the month from 5:00 pm onwards.\nJoin fellow Woottonites for impromtu drinks at the Community Centre / Brush Turkey Cafe. \nBring friends\, meet your neighbours\, talk about what’s happening locally\, in the state\, in the world\, in the universe! \nBYO drinks\, glasses and snacks. \nNo tickets\, no RSVP just turn up! \nCheck socials for occasionally aligned pizza nights.
URL:https://wootton.org.au/event/woottonsundowners-2/2025-09-28/
CATEGORIES:Community Event
ATTACH;FMTTYPE=image/jpeg:https://wootton.org.au/wp-content/uploads/2025/03/SUNDOWNERS_tanzania.jpg
END:VEVENT
BEGIN:VEVENT
DTSTART;TZID=Australia/Sydney:20250831T170000
DTEND;TZID=Australia/Sydney:20250831T190000
DTSTAMP:20260421T033334
CREATED:20250401T033046Z
LAST-MODIFIED:20250401T033827Z
UID:10004195-1756659600-1756666800@wootton.org.au
SUMMARY:Wootton SUNDOWNERS
DESCRIPTION:SUNDOWNER DRINKS\nLast Sunday of the month from 5:00 pm onwards.\nJoin fellow Woottonites for impromtu drinks at the Community Centre / Brush Turkey Cafe. \nBring friends\, meet your neighbours\, talk about what’s happening locally\, in the state\, in the world\, in the universe! \nBYO drinks\, glasses and snacks. \nNo tickets\, no RSVP just turn up! \nCheck socials for occasionally aligned pizza nights.
URL:https://wootton.org.au/event/woottonsundowners-2/2025-08-31/
CATEGORIES:Community Event
ATTACH;FMTTYPE=image/jpeg:https://wootton.org.au/wp-content/uploads/2025/03/SUNDOWNERS_tanzania.jpg
END:VEVENT
BEGIN:VEVENT
DTSTART;TZID=Australia/Sydney:20250809T130000
DTEND;TZID=Australia/Sydney:20250809T150000
DTSTAMP:20260421T033334
CREATED:20250808T010052Z
LAST-MODIFIED:20250808T012536Z
UID:10003148-1754744400-1754751600@wootton.org.au
SUMMARY:Wootton - Working Bee POSTPONED
DESCRIPTION:  \n\n\nNew date for the next working bee\, will be announced via email\, fb and this site\n\n\nJoin a community effort to enhance a community asset\n\n  \n  \n 
URL:https://wootton.org.au/event/wootton-weed-works-working-bee-event/
CATEGORIES:Community Event
ATTACH;FMTTYPE=image/jpeg:https://wootton.org.au/wp-content/uploads/2025/04/workingbee_POSTPONED.jpg
ORGANIZER;CN="Jo%D1%91l Dunn":MAILTO:joel.kgl.landcare@gmail.com
END:VEVENT
BEGIN:VEVENT
DTSTART;TZID=Australia/Sydney:20250727T170000
DTEND;TZID=Australia/Sydney:20250727T190000
DTSTAMP:20260421T033334
CREATED:20250401T033046Z
LAST-MODIFIED:20250401T033827Z
UID:10004137-1753635600-1753642800@wootton.org.au
SUMMARY:Wootton SUNDOWNERS
DESCRIPTION:SUNDOWNER DRINKS\nLast Sunday of the month from 5:00 pm onwards.\nJoin fellow Woottonites for impromtu drinks at the Community Centre / Brush Turkey Cafe. \nBring friends\, meet your neighbours\, talk about what’s happening locally\, in the state\, in the world\, in the universe! \nBYO drinks\, glasses and snacks. \nNo tickets\, no RSVP just turn up! \nCheck socials for occasionally aligned pizza nights.
URL:https://wootton.org.au/event/woottonsundowners-2/2025-07-27/
CATEGORIES:Community Event
ATTACH;FMTTYPE=image/jpeg:https://wootton.org.au/wp-content/uploads/2025/03/SUNDOWNERS_tanzania.jpg
END:VEVENT
BEGIN:VEVENT
DTSTART;TZID=Australia/Sydney:20250629T170000
DTEND;TZID=Australia/Sydney:20250629T190000
DTSTAMP:20260421T033334
CREATED:20250401T033046Z
LAST-MODIFIED:20250401T033827Z
UID:10004194-1751216400-1751223600@wootton.org.au
SUMMARY:Wootton SUNDOWNERS
DESCRIPTION:SUNDOWNER DRINKS\nLast Sunday of the month from 5:00 pm onwards.\nJoin fellow Woottonites for impromtu drinks at the Community Centre / Brush Turkey Cafe. \nBring friends\, meet your neighbours\, talk about what’s happening locally\, in the state\, in the world\, in the universe! \nBYO drinks\, glasses and snacks. \nNo tickets\, no RSVP just turn up! \nCheck socials for occasionally aligned pizza nights.
URL:https://wootton.org.au/event/woottonsundowners-2/2025-06-29/
CATEGORIES:Community Event
ATTACH;FMTTYPE=image/jpeg:https://wootton.org.au/wp-content/uploads/2025/03/SUNDOWNERS_tanzania.jpg
END:VEVENT
BEGIN:VEVENT
DTSTART;TZID=Australia/Sydney:20250618T190000
DTEND;TZID=Australia/Sydney:20250618T233000
DTSTAMP:20260421T033334
CREATED:20250607T054516Z
LAST-MODIFIED:20250607T054715Z
UID:10004395-1750273200-1750289400@wootton.org.au
SUMMARY:Wootton State-of-Origin Game Nights
DESCRIPTION:State of Origin on the big screen. \n\nJoin us for game 2 of footy\, food\, and fun at the Brush Turkey Café as we come together to cheer on our teams and support the local community.\nLocation: Brush Turkey Café\, 1633 Wootton Way\, Wootton \nDate:  Wednesday\, 18th June\nStart time: 7pm | Kick-off: 8:00pm\nGAME 2: Entry price of $7 includes a beef or vegetarian taco (tortilla); extra food can be purchased when you book your ticket(s).\nTipping score competitions will be run throughout the night so bring some gold coins\nPurchase tickets by Tuesday 17 June 2025 (for catering purposes) on facebook\, click … HERE.  \n\nSupport Wootton RFS\nProceeds on the night will be donated to the Wootton Brigade RFS (not for profit)\nSee you there – let’s make it a try-scoring community win!\n \n‪#‎stateoforigin‬ – Explore | Facebook\n#WoottonCommunity    #SupportLocal    #FootyNights   #WoottonRFS
URL:https://wootton.org.au/event/wootton-state-of-origin-game-nights-2/
CATEGORIES:Community Event
ATTACH;FMTTYPE=image/png:https://wootton.org.au/wp-content/uploads/2025/05/State-of-Origin-Game.png
END:VEVENT
BEGIN:VEVENT
DTSTART;TZID=Australia/Sydney:20250528T190000
DTEND;TZID=Australia/Sydney:20250528T233000
DTSTAMP:20260421T033334
CREATED:20250511T031017Z
LAST-MODIFIED:20250526T005445Z
UID:10004389-1748458800-1748475000@wootton.org.au
SUMMARY:Wootton State-of-Origin Game Nights
DESCRIPTION:State of Origin on the big screen. \n\nJoin us for game 1of footy\, food\, and fun at the Brush Turkey Café as we come together to cheer on our teams and support the local community.\nLocation: Brush Turkey Café\, 1633 Wootton Way\, Wootton \nDate:  Wednesday\, 28th May\nStart time: 7pm | Kick-off: 8:00pm\nGAME 1: Entry price of $5 includes a sizzling sausage sandwich. Other food can be purchased when you book your ticket\nTipping score competitions will be run throughout the night so bring some gold coins\nPurchase tickets by 5:00pm\, Tuesday 27 May 2025 on facebook click … HERE.  \n\nSupport Wootton RFS\nAll proceeds on the night will be donated to the Wootton Brigade RFS (not for profit)\nSee you there – let’s make it a try-scoring community win!\n \n‪#‎stateoforigin‬ – Explore | Facebook\n#WoottonCommunity    #SupportLocal    #FootyNights   #WoottonRFS
URL:https://wootton.org.au/event/wootton-state-of-origin-game-nights/
CATEGORIES:Community Event
ATTACH;FMTTYPE=image/png:https://wootton.org.au/wp-content/uploads/2025/05/State-of-Origin-Game.png
END:VEVENT
BEGIN:VEVENT
DTSTART;TZID=Australia/Sydney:20250525T170000
DTEND;TZID=Australia/Sydney:20250525T190000
DTSTAMP:20260421T033334
CREATED:20250401T033046Z
LAST-MODIFIED:20250401T033827Z
UID:10004135-1748192400-1748199600@wootton.org.au
SUMMARY:Wootton SUNDOWNERS
DESCRIPTION:SUNDOWNER DRINKS\nLast Sunday of the month from 5:00 pm onwards.\nJoin fellow Woottonites for impromtu drinks at the Community Centre / Brush Turkey Cafe. \nBring friends\, meet your neighbours\, talk about what’s happening locally\, in the state\, in the world\, in the universe! \nBYO drinks\, glasses and snacks. \nNo tickets\, no RSVP just turn up! \nCheck socials for occasionally aligned pizza nights.
URL:https://wootton.org.au/event/woottonsundowners-2/2025-05-25/
CATEGORIES:Community Event
ATTACH;FMTTYPE=image/jpeg:https://wootton.org.au/wp-content/uploads/2025/03/SUNDOWNERS_tanzania.jpg
END:VEVENT
BEGIN:VEVENT
DTSTART;TZID=Australia/Sydney:20250518T083000
DTEND;TZID=Australia/Sydney:20250518T163000
DTSTAMP:20260421T033334
CREATED:20250515T043041Z
LAST-MODIFIED:20250515T051100Z
UID:10004393-1747557000-1747585800@wootton.org.au
SUMMARY:WRFS at Bunnings Sausage Sizzle
DESCRIPTION:Join the Wootton RFS at Taree Bunnings this Sunday the 18th of May. \nThe WRFS are running the sausages out at Bunnings Taree! \nCome grab one or two\, with or without onions and sauce(s) !
URL:https://wootton.org.au/event/wrfs-at-bunnings-sausage-sizzle/
CATEGORIES:Community Event
ATTACH;FMTTYPE=image/jpeg:https://wootton.org.au/wp-content/uploads/2025/05/Bunnings-SS.jpg
END:VEVENT
BEGIN:VEVENT
DTSTART;TZID=Australia/Sydney:20250506T173000
DTEND;TZID=Australia/Sydney:20250506T190000
DTSTAMP:20260421T033334
CREATED:20250501T032205Z
LAST-MODIFIED:20250501T041532Z
UID:10001269-1746552600-1746558000@wootton.org.au
SUMMARY:Community Conversation
DESCRIPTION:Tuesday 6 May\, 5:30pm – 7pm\n\nThis grassroots program allows you to meet elected councillors as well as senior Council staff for a chat and to ask questions\, in your own community. \nCommunity Hall\, Wootton Community Centre\, 1633 Wootton Way \nRegister your attendance and ask a question online … Community Conversations | Have Your Say \n\nOR \nJust turn up on the day (5:30-7:00) \nCommunity Conversations: dates and locations\n\nBulahdelah: Bulahdelah School of Arts Hall\, Tuesday 6 May\, 2:30 – 4pm\nWootton: Wootton Community Centre\, Tuesday 6 May\, 5:30 – 7pm\nWingham: Wingham Memorial Town Hall\, Tuesday 13 May\, 5:30 – 7pm\nHallidays Point: Black Head Surf Life Saving Club\, Thursday 15 May\, 5:30 – 7pm\nForster: Forster Civic Centre (Coolongolook Room)\, Monday 19 May\, 2:30 – 4pm\nNabiac: Nabiac Showground Hall\, Monday 19 May\, 5:30 – 7pm\nTaree: Yalawanyi Ganya\, Council Chambers\, Thursday 22 May\, 2:30 – 4pm\nTea Gardens: Hawks Nest Community Centre\, Monday 26 May\, 2:30 – 4pm\nHarrington: Harrington Function Centre\, Tuesday 20 May\, 2:30 – 4pm\nLansdowne: Lansdowne Community Hall\, Tuesday 3 June\, 5:30 – 7pm\nPacific Palms: Pacific Palms Surf Life Saving Club\, Tuesday 10 June\, 5:30 – 7pm\nGloucester: Gloucester Council Chambers\, Thursday 19 June\, 2:30 – 4pm\nStroud: Stroud School of Arts Hall\, Thursday 19 June\, 5:30 – 7pm\n\n 
URL:https://wootton.org.au/event/community-conversations/
CATEGORIES:Community Event
ATTACH;FMTTYPE=image/jpeg:https://wootton.org.au/wp-content/uploads/2025/05/CommunityConversations2025.jpg
END:VEVENT
BEGIN:VEVENT
DTSTART;TZID=Australia/Sydney:20250427T170000
DTEND;TZID=Australia/Sydney:20250427T190000
DTSTAMP:20260421T033334
CREATED:20250401T033046Z
LAST-MODIFIED:20250401T033827Z
UID:10004134-1745773200-1745780400@wootton.org.au
SUMMARY:Wootton SUNDOWNERS
DESCRIPTION:SUNDOWNER DRINKS\nLast Sunday of the month from 5:00 pm onwards.\nJoin fellow Woottonites for impromtu drinks at the Community Centre / Brush Turkey Cafe. \nBring friends\, meet your neighbours\, talk about what’s happening locally\, in the state\, in the world\, in the universe! \nBYO drinks\, glasses and snacks. \nNo tickets\, no RSVP just turn up! \nCheck socials for occasionally aligned pizza nights.
URL:https://wootton.org.au/event/woottonsundowners-2/2025-04-27/
CATEGORIES:Community Event
ATTACH;FMTTYPE=image/jpeg:https://wootton.org.au/wp-content/uploads/2025/03/SUNDOWNERS_tanzania.jpg
END:VEVENT
BEGIN:VEVENT
DTSTART;TZID=Australia/Sydney:20250208T103000
DTEND;TZID=Australia/Sydney:20250208T120000
DTSTAMP:20260421T033334
CREATED:20250124T020620Z
LAST-MODIFIED:20250124T020948Z
UID:10003887-1739010600-1739016000@wootton.org.au
SUMMARY:Have Your Say ... morning tea
DESCRIPTION:Celebrating 20 years of the Wootton Community Resource Centre and Brush Turkey Cafe. \nCome join us for a morning tea from 10:30am and discuss ideas for the future of the Centre and the Brush Turkey Cafe. \nStay after the morning tea for the Wootton Food Swap at 12 noon and connect with others in our community.\nContribute to a potluck lunch if you’d like to stay longer and share a meal with your neighbours! \nNothing is off the table for ideas for the future of the community. \nSee you there! \nIf you can’t make the 8th\, you can still have your say … here!
URL:https://wootton.org.au/event/have-your-say-morning-tea/
LOCATION:Community Hall\, 1633 Wootton Way\, WOOTTON\, New South Wales\, 2423\, Australia
CATEGORIES:Community Event
ATTACH;FMTTYPE=image/jpeg:https://wootton.org.au/wp-content/uploads/2025/01/WCN-Brush-Turkey-logo-e1737684353450.jpg
END:VEVENT
END:VCALENDAR