BEGIN:VCALENDAR
VERSION:2.0
PRODID:-//Wootton Community Network - ECPv6.15.20//NONSGML v1.0//EN
CALSCALE:GREGORIAN
METHOD:PUBLISH
X-WR-CALNAME:Wootton Community Network
X-ORIGINAL-URL:https://wootton.org.au
X-WR-CALDESC:Events for Wootton Community Network
REFRESH-INTERVAL;VALUE=DURATION:PT1H
X-Robots-Tag:noindex
X-PUBLISHED-TTL:PT1H
BEGIN:VTIMEZONE
TZID:Australia/Sydney
BEGIN:STANDARD
TZOFFSETFROM:+1100
TZOFFSETTO:+1000
TZNAME:AEST
DTSTART:20250405T160000
END:STANDARD
BEGIN:DAYLIGHT
TZOFFSETFROM:+1000
TZOFFSETTO:+1100
TZNAME:AEDT
DTSTART:20251004T160000
END:DAYLIGHT
BEGIN:STANDARD
TZOFFSETFROM:+1100
TZOFFSETTO:+1000
TZNAME:AEST
DTSTART:20260404T160000
END:STANDARD
BEGIN:DAYLIGHT
TZOFFSETFROM:+1000
TZOFFSETTO:+1100
TZNAME:AEDT
DTSTART:20261003T160000
END:DAYLIGHT
BEGIN:STANDARD
TZOFFSETFROM:+1100
TZOFFSETTO:+1000
TZNAME:AEST
DTSTART:20270403T160000
END:STANDARD
BEGIN:DAYLIGHT
TZOFFSETFROM:+1000
TZOFFSETTO:+1100
TZNAME:AEDT
DTSTART:20271002T160000
END:DAYLIGHT
END:VTIMEZONE
BEGIN:VEVENT
DTSTART;TZID=Australia/Sydney:20260711T130000
DTEND;TZID=Australia/Sydney:20260711T150000
DTSTAMP:20260422T155926
CREATED:20260331T004854Z
LAST-MODIFIED:20260331T005336Z
UID:10004496-1783774800-1783782000@wootton.org.au
SUMMARY:Monthly Meetup
DESCRIPTION:WOOTTON SOCIAL \nA friendly monthly meetup at the Wootton Community Hall. \nAll ages\, all welcome\, whether or not you live in Wootton! \nSecond Saturday of each month\, following Food Swap from 1:00 pm to 3:00 pm. \nInfo: Ged Crowley on 0409-904-629
URL:https://wootton.org.au/event/monthly_meetup/2026-07-11/
CATEGORIES:Community Event
ATTACH;FMTTYPE=image/jpeg:https://wootton.org.au/wp-content/uploads/2026/03/Meetup-2026.jpg
END:VEVENT
BEGIN:VEVENT
DTSTART;TZID=Australia/Sydney:20260719T090000
DTEND;TZID=Australia/Sydney:20260719T113000
DTSTAMP:20260422T155926
CREATED:20260330T213528Z
LAST-MODIFIED:20260331T000403Z
UID:10004382-1784451600-1784460600@wootton.org.au
SUMMARY:Working Bee - July
DESCRIPTION:Sunday 19th July 2026 from 9:00 am\, concluding with morning tea for volunteers! \nALL welcome\, register on the day.
URL:https://wootton.org.au/event/working-bee-july/
CATEGORIES:Community Event
ATTACH;FMTTYPE=image/jpeg:https://wootton.org.au/wp-content/uploads/2024/03/workingbee.jpg
END:VEVENT
BEGIN:VEVENT
DTSTART;TZID=Australia/Sydney:20260726T170000
DTEND;TZID=Australia/Sydney:20260726T190000
DTSTAMP:20260422T155926
CREATED:20250401T033046Z
LAST-MODIFIED:20250401T033827Z
UID:10004149-1785085200-1785092400@wootton.org.au
SUMMARY:Wootton SUNDOWNERS
DESCRIPTION:SUNDOWNER DRINKS\nLast Sunday of the month from 5:00 pm onwards.\nJoin fellow Woottonites for impromtu drinks at the Community Centre / Brush Turkey Cafe. \nBring friends\, meet your neighbours\, talk about what’s happening locally\, in the state\, in the world\, in the universe! \nBYO drinks\, glasses and snacks. \nNo tickets\, no RSVP just turn up! \nCheck socials for occasionally aligned pizza nights.
URL:https://wootton.org.au/event/woottonsundowners-2/2026-07-26/
CATEGORIES:Community Event
ATTACH;FMTTYPE=image/jpeg:https://wootton.org.au/wp-content/uploads/2025/03/SUNDOWNERS_tanzania.jpg
END:VEVENT
END:VCALENDAR