BEGIN:VCALENDAR
VERSION:2.0
PRODID:-//Wootton Community Network - ECPv6.15.20//NONSGML v1.0//EN
CALSCALE:GREGORIAN
METHOD:PUBLISH
X-WR-CALNAME:Wootton Community Network
X-ORIGINAL-URL:https://wootton.org.au
X-WR-CALDESC:Events for Wootton Community Network
REFRESH-INTERVAL;VALUE=DURATION:PT1H
X-Robots-Tag:noindex
X-PUBLISHED-TTL:PT1H
BEGIN:VTIMEZONE
TZID:Australia/Sydney
BEGIN:STANDARD
TZOFFSETFROM:+1100
TZOFFSETTO:+1000
TZNAME:AEST
DTSTART:20220402T160000
END:STANDARD
BEGIN:DAYLIGHT
TZOFFSETFROM:+1000
TZOFFSETTO:+1100
TZNAME:AEDT
DTSTART:20221001T160000
END:DAYLIGHT
BEGIN:STANDARD
TZOFFSETFROM:+1100
TZOFFSETTO:+1000
TZNAME:AEST
DTSTART:20230401T160000
END:STANDARD
BEGIN:DAYLIGHT
TZOFFSETFROM:+1000
TZOFFSETTO:+1100
TZNAME:AEDT
DTSTART:20230930T160000
END:DAYLIGHT
BEGIN:STANDARD
TZOFFSETFROM:+1100
TZOFFSETTO:+1000
TZNAME:AEST
DTSTART:20240406T160000
END:STANDARD
BEGIN:DAYLIGHT
TZOFFSETFROM:+1000
TZOFFSETTO:+1100
TZNAME:AEDT
DTSTART:20241005T160000
END:DAYLIGHT
BEGIN:STANDARD
TZOFFSETFROM:+1100
TZOFFSETTO:+1000
TZNAME:AEST
DTSTART:20250405T160000
END:STANDARD
BEGIN:DAYLIGHT
TZOFFSETFROM:+1000
TZOFFSETTO:+1100
TZNAME:AEDT
DTSTART:20251004T160000
END:DAYLIGHT
BEGIN:STANDARD
TZOFFSETFROM:+1100
TZOFFSETTO:+1000
TZNAME:AEST
DTSTART:20260404T160000
END:STANDARD
BEGIN:DAYLIGHT
TZOFFSETFROM:+1000
TZOFFSETTO:+1100
TZNAME:AEDT
DTSTART:20261003T160000
END:DAYLIGHT
BEGIN:STANDARD
TZOFFSETFROM:+1100
TZOFFSETTO:+1000
TZNAME:AEST
DTSTART:20270403T160000
END:STANDARD
BEGIN:DAYLIGHT
TZOFFSETFROM:+1000
TZOFFSETTO:+1100
TZNAME:AEDT
DTSTART:20271002T160000
END:DAYLIGHT
END:VTIMEZONE
BEGIN:VEVENT
DTSTART;TZID=Australia/Sydney:20260314T180000
DTEND;TZID=Australia/Sydney:20260314T223000
DTSTAMP:20260424T044049
CREATED:20260210T063958Z
LAST-MODIFIED:20260310T014701Z
UID:10004397-1773511200-1773527400@wootton.org.au
SUMMARY:Trivia Night 2026
DESCRIPTION:TRIVIA NIGHT – Saturday\, 14th March 2026 \nJoin us for a Wootton Community Trivia Night!\n\n\nChildren aged 14+ welcome.\n\nPrice includes dinner and donation to the Wootton Community Network – join the fun & support your local facilities.\nThere’ll be games and raffle prizes\, so empty your pockets\, centre consoles of your car and the bottom of your bag and bring your cash for a night of fun!\n\nBring a team of up to 8 friends or join a team on the night and make new friends!\n\nLOCATION: WOOTTON COMMUNITY HALL\, 1633 WOOTTON WAY\nTIME: Saturday 14th March\, dinner from 6:15pm\, trivia begins 7:00pm \nPLEASE BRING YOUR OWN DRINKS AND GLASSES \nRAFFLES / PRIZES UP FOR GRABS\nLOTS OF FUN TO BE HAD \nSEATS ARE LIMITED\, PLEASE BOOK TICKETS BELOW … \n\nPlenty of ham\, coleslaw/salad\, vegetable quiche and ice-cream dessert. \n\nPurchase tickets here
URL:https://wootton.org.au/event/trivia-night-2026-march/
LOCATION:Community Hall\, 1633 Wootton Way\, WOOTTON\, New South Wales\, 2423\, Australia
CATEGORIES:Community Dinner
ATTACH;FMTTYPE=image/jpeg:https://wootton.org.au/wp-content/uploads/2025/08/Trivia-Night-October.jpg
ORGANIZER;CN="WCN Secretary":MAILTO:secretary@wootton.org.au
END:VEVENT
BEGIN:VEVENT
DTSTART;TZID=Australia/Sydney:20250330T180000
DTEND;TZID=Australia/Sydney:20250330T223000
DTSTAMP:20260424T044049
CREATED:20250225T030837Z
LAST-MODIFIED:20250403T034928Z
UID:10003889-1743357600-1743373800@wootton.org.au
SUMMARY:Trivia Night 2025
DESCRIPTION:TRIVIA NIGHT 2025 \nJoin us for a Wootton Community Trivia Night!\n\n\nChildren aged 14+ welcome\n\nPrice includes dinner and donation to the Wootton Community Network – join the fun & support your local facilities\nThere’ll be games and raffle prizes\, so empty your pockets\, centre consoles of your car and the bottom of your bag and bring your cash for a night of fun!\n\nBring a team of up to 8 friends or join a team on the night and make new friends!\n\nLOCATION: WOOTTON COMMUNITY HALL\, 1633 WOOTTON WAY\nTIME: Sunday 30th of March\, dinner from 6:15pm\, trivia begins 7:00pm\nFollowing on from Wootton SUNDOWNERS at 5:30pm \nPLEASE BRING YOUR OWN DRINKS AND GLASSES \nRAFFLES / PRIZES UP FOR GRABS\nLOTS OF FUN TO BE HAD \nSEATS ARE LIMITED\, PLEASE BOOK TICKETS BELOW … \n\nMain course options are:\n– CS   : Chunky Steak pie\, mash potato and peas\n– GF   : Gluten Free vegetarian quiche\, mash potato and peas\n– GFP: Gluten Free steak pie\, mash potato and peas
URL:https://wootton.org.au/event/trivia-night-2025/
LOCATION:Community Hall\, 1633 Wootton Way\, WOOTTON\, New South Wales\, 2423\, Australia
CATEGORIES:Community Dinner
ATTACH;FMTTYPE=image/jpeg:https://wootton.org.au/wp-content/uploads/2023/07/Trivia-Night-e1690085187947.jpg
ORGANIZER;CN="WCN Secretary":MAILTO:secretary@wootton.org.au
END:VEVENT
BEGIN:VEVENT
DTSTART;TZID=Australia/Sydney:20230325T180000
DTEND;TZID=Australia/Sydney:20230325T220000
DTSTAMP:20260424T044049
CREATED:20230315T040241Z
LAST-MODIFIED:20230319T224404Z
UID:10000657-1679767200-1679781600@wootton.org.au
SUMMARY:March Community Dinner
DESCRIPTION:6PM Saturday 25th March a community dinner will take place in the Wootton Hall\nCost:\nAdult $25 per person\nChild $10 under 12 \nFor our catering purposes please RSVP by Wednesday 22nd. \nBook and pay for tickets online below or text Susanne on 0402-742-226
URL:https://wootton.org.au/event/march-community-dinner/
LOCATION:Wootton Community Centre\, 1633 Wootton Way\, Wootton\, NSW\, Australia
CATEGORIES:Community Dinner
ATTACH;FMTTYPE=image/jpeg:https://wootton.org.au/wp-content/uploads/2023/03/Dinner.jpg
ORGANIZER;CN="Susanne":MAILTO:events@wootton.org.au
END:VEVENT
END:VCALENDAR